BEGIN:VCALENDAR
VERSION:2.0
PRODID:-//Southside Christian Palace Church - ECPv6.15.12.1//NONSGML v1.0//EN
CALSCALE:GREGORIAN
METHOD:PUBLISH
X-WR-CALNAME:Southside Christian Palace Church
X-ORIGINAL-URL:https://christianpalace.org
X-WR-CALDESC:Events for Southside Christian Palace Church
REFRESH-INTERVAL;VALUE=DURATION:PT1H
X-Robots-Tag:noindex
X-PUBLISHED-TTL:PT1H
BEGIN:VTIMEZONE
TZID:UTC
BEGIN:STANDARD
TZOFFSETFROM:+0000
TZOFFSETTO:+0000
TZNAME:UTC
DTSTART:20180101T000000
END:STANDARD
END:VTIMEZONE
BEGIN:VEVENT
DTSTART;TZID=UTC:20190920T190000
DTEND;TZID=UTC:20190920T190000
DTSTAMP:20260425T152105
CREATED:20190920T060908Z
LAST-MODIFIED:20190920T060908Z
UID:2089-1569006000-1569006000@christianpalace.org
SUMMARY:Friday Night Worship Service
DESCRIPTION:Join us for our Friday Night Worship Service with Dr. DL Portee.
URL:https://christianpalace.org/event/friday-night-worship-service/
LOCATION:CA
CATEGORIES:Weekly
END:VEVENT
END:VCALENDAR